BEGIN:VCALENDAR
VERSION:2.0
PRODID:-//South Sound YMCA - ECPv6.15.20//NONSGML v1.0//EN
CALSCALE:GREGORIAN
METHOD:PUBLISH
X-WR-CALNAME:South Sound YMCA
X-ORIGINAL-URL:https://southsoundymca.org
X-WR-CALDESC:Events for South Sound YMCA
REFRESH-INTERVAL;VALUE=DURATION:PT1H
X-Robots-Tag:noindex
X-PUBLISHED-TTL:PT1H
BEGIN:VTIMEZONE
TZID:America/Los_Angeles
BEGIN:DAYLIGHT
TZOFFSETFROM:-0800
TZOFFSETTO:-0700
TZNAME:PDT
DTSTART:20210314T100000
END:DAYLIGHT
BEGIN:STANDARD
TZOFFSETFROM:-0700
TZOFFSETTO:-0800
TZNAME:PST
DTSTART:20211107T090000
END:STANDARD
BEGIN:DAYLIGHT
TZOFFSETFROM:-0800
TZOFFSETTO:-0700
TZNAME:PDT
DTSTART:20220313T100000
END:DAYLIGHT
BEGIN:STANDARD
TZOFFSETFROM:-0700
TZOFFSETTO:-0800
TZNAME:PST
DTSTART:20221106T090000
END:STANDARD
BEGIN:DAYLIGHT
TZOFFSETFROM:-0800
TZOFFSETTO:-0700
TZNAME:PDT
DTSTART:20230312T100000
END:DAYLIGHT
BEGIN:STANDARD
TZOFFSETFROM:-0700
TZOFFSETTO:-0800
TZNAME:PST
DTSTART:20231105T090000
END:STANDARD
END:VTIMEZONE
BEGIN:VEVENT
DTSTART;TZID=America/Los_Angeles:20220625T121500
DTEND;TZID=America/Los_Angeles:20220625T131500
DTSTAMP:20260425T032547
CREATED:20220512T211020Z
LAST-MODIFIED:20220512T211020Z
UID:5199-1656159300-1656162900@southsoundymca.org
SUMMARY:Healthy Living for Your Brain & Body
DESCRIPTION:A representative from the Alzheimer’s Association\, Washington Chapter\, will host a talk entitled “Healthy Living for Your Brain and Body: Tips from the Latest Research” on Saturday\, June 25 at 12:15pm at the Plum Street YMCA. We hope that you will join us! \nAlzheimer’s disease is a concern for many. No one knows the exact cause of Alzheimer’s disease\, but scientists do know that genes are involved. \nResearch has also shown that healthy lifestyle behaviors were associated with substantially lower risk for Alzheimer’s disease. There are five specific healthy behaviors found to lower the risk of Alzheimer’s. These are: physical activity\, not smoking\, light-to-moderate alcohol consumption\, a high-quality diet\, and cognitive activities. (Source: National Institute on Aging)
URL:https://southsoundymca.org/event-calendar/healthy-living-for-your-brain-body/
LOCATION:Plum Street YMCA\, 505 Plum St. SE\, Olympia\, 98501\, United States
END:VEVENT
END:VCALENDAR