BEGIN:VCALENDAR
VERSION:2.0
PRODID:-//South Sound YMCA - ECPv6.15.20//NONSGML v1.0//EN
CALSCALE:GREGORIAN
METHOD:PUBLISH
X-WR-CALNAME:South Sound YMCA
X-ORIGINAL-URL:https://southsoundymca.org
X-WR-CALDESC:Events for South Sound YMCA
REFRESH-INTERVAL;VALUE=DURATION:PT1H
X-Robots-Tag:noindex
X-PUBLISHED-TTL:PT1H
BEGIN:VTIMEZONE
TZID:America/Los_Angeles
BEGIN:DAYLIGHT
TZOFFSETFROM:-0800
TZOFFSETTO:-0700
TZNAME:PDT
DTSTART:20210314T100000
END:DAYLIGHT
BEGIN:STANDARD
TZOFFSETFROM:-0700
TZOFFSETTO:-0800
TZNAME:PST
DTSTART:20211107T090000
END:STANDARD
BEGIN:DAYLIGHT
TZOFFSETFROM:-0800
TZOFFSETTO:-0700
TZNAME:PDT
DTSTART:20220313T100000
END:DAYLIGHT
BEGIN:STANDARD
TZOFFSETFROM:-0700
TZOFFSETTO:-0800
TZNAME:PST
DTSTART:20221106T090000
END:STANDARD
BEGIN:DAYLIGHT
TZOFFSETFROM:-0800
TZOFFSETTO:-0700
TZNAME:PDT
DTSTART:20230312T100000
END:DAYLIGHT
BEGIN:STANDARD
TZOFFSETFROM:-0700
TZOFFSETTO:-0800
TZNAME:PST
DTSTART:20231105T090000
END:STANDARD
END:VTIMEZONE
BEGIN:VEVENT
DTSTART;VALUE=DATE:20220331
DTEND;VALUE=DATE:20220401
DTSTAMP:20260425T072238
CREATED:20220301T025551Z
LAST-MODIFIED:20220301T025551Z
UID:5058-1648684800-1648771199@southsoundymca.org
SUMMARY:National Crayon Day!
DESCRIPTION:Each year\, on March 31st children and adults alike\, pick up their favorite colors for National Crayon Day. Opening up a box of crayons opens up a world of imagination and hours of fun. Wax and chalk-based crayons have been used by artists around the world for centuries.
URL:https://southsoundymca.org/event-calendar/national-crayon-day/
LOCATION:Briggs YMCA & Plum Street YMCA
CATEGORIES:Member Appreciation Month
END:VEVENT
BEGIN:VEVENT
DTSTART;VALUE=DATE:20220330
DTEND;VALUE=DATE:20220331
DTSTAMP:20260425T072238
CREATED:20220301T025648Z
LAST-MODIFIED:20220301T025648Z
UID:5059-1648598400-1648684799@southsoundymca.org
SUMMARY:Kid’s Craft Day!
DESCRIPTION:Make some beautiful Spring Flowers with us! Available during Kids Zone operating hours. \nKIDS ZONE HOURS
URL:https://southsoundymca.org/event-calendar/kids-craft-day-2/
LOCATION:Briggs YMCA & Plum Street YMCA
CATEGORIES:Member Appreciation Month
END:VEVENT
BEGIN:VEVENT
DTSTART;VALUE=DATE:20220329
DTEND;VALUE=DATE:20220330
DTSTAMP:20260425T072238
CREATED:20220301T025215Z
LAST-MODIFIED:20220301T025307Z
UID:5056-1648512000-1648598399@southsoundymca.org
SUMMARY:National Vietnam War Veterans Day
DESCRIPTION:National Vietnam War Veterans Day is observed every year on March 29 and is a way to thank and honor our nation’s Vietnam veterans and their families for their service and sacrifice.
URL:https://southsoundymca.org/event-calendar/national-vietnam-war-veterans-day/
LOCATION:Briggs YMCA & Plum Street YMCA
CATEGORIES:Member Appreciation Month
END:VEVENT
BEGIN:VEVENT
DTSTART;VALUE=DATE:20220328
DTEND;VALUE=DATE:20220329
DTSTAMP:20260425T072238
CREATED:20220301T025038Z
LAST-MODIFIED:20220301T025038Z
UID:5055-1648425600-1648511999@southsoundymca.org
SUMMARY:YMCA Trivia Contest Ends Today!
DESCRIPTION:Let’s see who takes the win!
URL:https://southsoundymca.org/event-calendar/ymca-trivia-contest-ends-today/
LOCATION:Briggs YMCA & Plum Street YMCA
CATEGORIES:Member Appreciation Month
END:VEVENT
BEGIN:VEVENT
DTSTART;VALUE=DATE:20220327
DTEND;VALUE=DATE:20220328
DTSTAMP:20260425T072238
CREATED:20220301T024936Z
LAST-MODIFIED:20220301T024936Z
UID:5054-1648339200-1648425599@southsoundymca.org
SUMMARY:National Scribble Day!
DESCRIPTION:Add your scribble to the wall today! National Scribble Day is observed on March 27 annually\, and it is all about celebrating creativity and the art associated with scribbling\, which anyone can do regardless of their artistic abilities.
URL:https://southsoundymca.org/event-calendar/national-scribble-day/
LOCATION:Briggs YMCA & Plum Street YMCA
CATEGORIES:Member Appreciation Month
END:VEVENT
BEGIN:VEVENT
DTSTART;VALUE=DATE:20220326
DTEND;VALUE=DATE:20220327
DTSTAMP:20260425T072238
CREATED:20220301T024730Z
LAST-MODIFIED:20220301T024730Z
UID:5052-1648252800-1648339199@southsoundymca.org
SUMMARY:Cupcakes Today!
DESCRIPTION:Our members really… take the cake!
URL:https://southsoundymca.org/event-calendar/cupcakes-today/
LOCATION:Briggs YMCA & Plum Street YMCA
CATEGORIES:Member Appreciation Month
END:VEVENT
BEGIN:VEVENT
DTSTART;VALUE=DATE:20220325
DTEND;VALUE=DATE:20220326
DTSTAMP:20260425T072238
CREATED:20220301T024758Z
LAST-MODIFIED:20220301T024758Z
UID:5053-1648166400-1648252799@southsoundymca.org
SUMMARY:Fruit Water Day!
DESCRIPTION:Have a glass of fruit water in the Welcome Center! \nStay cool and refreshed after your workout with a nice glass of refreshing fruit water.
URL:https://southsoundymca.org/event-calendar/fruit-water-day-4/
LOCATION:Briggs YMCA & Plum Street YMCA
CATEGORIES:Member Appreciation Month
END:VEVENT
BEGIN:VEVENT
DTSTART;VALUE=DATE:20220325
DTEND;VALUE=DATE:20220326
DTSTAMP:20260425T072238
CREATED:20220228T234651Z
LAST-MODIFIED:20220301T230200Z
UID:5020-1648166400-1648252799@southsoundymca.org
SUMMARY:Shelton Family YMCA Pool & Locker Room Closure
DESCRIPTION:LOCKER ROOM CLOSURE MARCH 25 \nThe Shelton Family YMCA is gearing up for spring with pool and locker room maintenance. \nThe locker room lockers\, showers\, and pool will be unavailable to members ALL DAY on March 25. Make sure you stay aware of these upcoming changes to the schedule and plan your workouts accordingly. The locker room restrooms and the gender-natural restroom will both still be accessible during the closer. \nWe appreciate your cooperation during this brief time of inconvenience.
URL:https://southsoundymca.org/event-calendar/shelton-pool-locker-room-closure/
LOCATION:Shelton Family YMCA\, 3101 N Shelton Springs Rd\, Shelton\, WA\, 98584\, United States
CATEGORIES:Closures
ORGANIZER;CN="Shelton Family YMCA":MAILTO:sheltonmembership@ssymca.net
END:VEVENT
BEGIN:VEVENT
DTSTART;VALUE=DATE:20220324
DTEND;VALUE=DATE:20220325
DTSTAMP:20260425T072238
CREATED:20220301T024444Z
LAST-MODIFIED:20220301T174009Z
UID:5051-1648080000-1648166399@southsoundymca.org
SUMMARY:Wear your coolest socks!
DESCRIPTION:Show off your style!
URL:https://southsoundymca.org/event-calendar/wear-your-coolest-socks/
LOCATION:Briggs YMCA & Plum Street YMCA
CATEGORIES:Member Appreciation Month
END:VEVENT
BEGIN:VEVENT
DTSTART;VALUE=DATE:20220323
DTEND;VALUE=DATE:20220324
DTSTAMP:20260425T072238
CREATED:20220301T024348Z
LAST-MODIFIED:20220301T024348Z
UID:5050-1647993600-1648079999@southsoundymca.org
SUMMARY:National Banana Bread Day
DESCRIPTION:National Banana Bread Day celebrates a perfect pairing of fruit plus bread.
URL:https://southsoundymca.org/event-calendar/national-banana-bread-day/
LOCATION:Briggs YMCA & Plum Street YMCA
CATEGORIES:Member Appreciation Month
END:VEVENT
BEGIN:VEVENT
DTSTART;TZID=America/Los_Angeles:20220322T110000
DTEND;TZID=America/Los_Angeles:20220322T143000
DTSTAMP:20260425T072238
CREATED:20220228T232901Z
LAST-MODIFIED:20220228T233737Z
UID:5015-1647946800-1647959400@southsoundymca.org
SUMMARY:BodySpec at the Y
DESCRIPTION:Monitoring Your Weight Is Not Enough\nWeight can be misleading when used as an indicator of health. Anyone may experience frustration when their weight shows no change\, even with exercise and improved nutrition. Your body is a complex structure made up of different components\, such as body water\, fat and muscle. Your body cannot be expressed with one simple number. \nA personal health snapshot\, created using the very best technology\, is now affordable and accessible to everyone. BodySpec performs body fat and body composition testing using a truck equipped with a DXA scanner. In a fully clothed 10-minute scan\, you’ll learn more about your body than you’ve ever known. \nA Body Spec DEXA scan doesn’t measure effort\, or time\, or dollars spent. It measures your body – and your body has a lot to say. \n• A detailed full body composition snapshot and analysis helps you understand where you’re starting from\n• By measuring how your body changes in response to your routines\, you’ll identify what works for you\n• You’ll be able to focus on prevention today rather than treatment tomorrow with a clear profile of your risks for long-term preventable disease\n• Get guidance from health experts on the right path forward. Our wellness consultant team supports you after each scan\, so that you’re not left alone to figure it all out yourself \nGet a fully detailed body composition snapshot and analysis! \nREGISTER TODAY!
URL:https://southsoundymca.org/event-calendar/body-spec-at-the-y/
LOCATION:Plum Street YMCA\, 505 Plum St. SE\, Olympia\, 98501\, United States
END:VEVENT
BEGIN:VEVENT
DTSTART;VALUE=DATE:20220322
DTEND;VALUE=DATE:20220323
DTSTAMP:20260425T072238
CREATED:20220301T174209Z
LAST-MODIFIED:20220301T174209Z
UID:5060-1647907200-1647993599@southsoundymca.org
SUMMARY:Snack Day!
DESCRIPTION:Have a (healthy) snack in the Welcome Center! \n 
URL:https://southsoundymca.org/event-calendar/snack-day-3/
LOCATION:Briggs YMCA & Plum Street YMCA
CATEGORIES:Member Appreciation Month
END:VEVENT
BEGIN:VEVENT
DTSTART;VALUE=DATE:20220321
DTEND;VALUE=DATE:20220322
DTSTAMP:20260425T072238
CREATED:20220301T024059Z
LAST-MODIFIED:20220301T024059Z
UID:5049-1647820800-1647907199@southsoundymca.org
SUMMARY:Wear your Y Swag!
DESCRIPTION:Show us how much YOU love the Y by wearing your favorite new or vintage YMCA swag.
URL:https://southsoundymca.org/event-calendar/wear-your-y-swag/
LOCATION:Briggs YMCA & Plum Street YMCA
CATEGORIES:Member Appreciation Month
END:VEVENT
BEGIN:VEVENT
DTSTART;TZID=America/Los_Angeles:20220320T090000
DTEND;TZID=America/Los_Angeles:20220320T120000
DTSTAMP:20260425T072238
CREATED:20220301T234023Z
LAST-MODIFIED:20220301T235218Z
UID:5068-1647766800-1647777600@southsoundymca.org
SUMMARY:108 SUN SALUTATIONS FOR SPRING EQUINOX
DESCRIPTION:Join our self-love challenge in performing 108 Sun Salutations! On March 20th\, we will be coming together as a community and performing 108 sun salutations to welcome the Spring Equinox and invoke personal and communal growth and expansion. To build up to the big event on March 20th\, we highly encourage individuals to invigorate their personal yoga practice! We invite members to join our yoga classes\, in house or virtually! Specifically\, our Monday class at the Shelton Family YMCA (with Kelly from 5-6pm) will be used as a weekly accountability and check in time for members who wish to practice and intentionally work towards the sun salutation challenge.
URL:https://southsoundymca.org/event-calendar/108-sun-salutations-for-spring-equinox/
LOCATION:Shelton Family YMCA\, 3101 N Shelton Springs Rd\, Shelton\, WA\, 98584\, United States
ORGANIZER;CN="Shelton Family YMCA":MAILTO:sheltonmembership@ssymca.net
END:VEVENT
BEGIN:VEVENT
DTSTART;VALUE=DATE:20220320
DTEND;VALUE=DATE:20220321
DTSTAMP:20260425T072238
CREATED:20220301T023931Z
LAST-MODIFIED:20220301T023931Z
UID:5048-1647734400-1647820799@southsoundymca.org
SUMMARY:First Day of Spring
DESCRIPTION:Spring is here. Spring is a lovely reminder of how beautiful change can be.
URL:https://southsoundymca.org/event-calendar/first-day-of-spring/
LOCATION:Briggs YMCA & Plum Street YMCA
CATEGORIES:Member Appreciation Month
END:VEVENT
BEGIN:VEVENT
DTSTART;VALUE=DATE:20220319
DTEND;VALUE=DATE:20220320
DTSTAMP:20260425T072238
CREATED:20220301T023435Z
LAST-MODIFIED:20220301T023435Z
UID:5047-1647648000-1647734399@southsoundymca.org
SUMMARY:National Let’s Laugh Day!
DESCRIPTION:Each year\, National Let’s Laugh Day on March 19th reminds us to add a little humor to our day. It’s never good to be serious all the time and letting the laughter bubble up from time to time is good for all of us! \nWe have all heard the saying\, “Laughter is the best medicine.” This is the day to take your medicine. \nTell us your funniest jokes!
URL:https://southsoundymca.org/event-calendar/national-lets-laugh-day/
LOCATION:Briggs YMCA & Plum Street YMCA
CATEGORIES:Member Appreciation Month
END:VEVENT
BEGIN:VEVENT
DTSTART;VALUE=DATE:20220318
DTEND;VALUE=DATE:20220319
DTSTAMP:20260425T072238
CREATED:20220301T023209Z
LAST-MODIFIED:20220301T023209Z
UID:5046-1647561600-1647647999@southsoundymca.org
SUMMARY:Fruit Water Day!
DESCRIPTION:Have a glass of fruit water in the Welcome Center! \nStay cool and refreshed after your workout with a nice glass of refreshing fruit water.
URL:https://southsoundymca.org/event-calendar/fruit-water-day-3/
LOCATION:Briggs YMCA & Plum Street YMCA
CATEGORIES:Member Appreciation Month
END:VEVENT
BEGIN:VEVENT
DTSTART;VALUE=DATE:20220317
DTEND;VALUE=DATE:20220318
DTSTAMP:20260425T072238
CREATED:20220301T023137Z
LAST-MODIFIED:20220301T023137Z
UID:5045-1647475200-1647561599@southsoundymca.org
SUMMARY:St. Patrick’s Day!
DESCRIPTION:Happy St. Patrick’s Day! Wear your finest green today. \n 
URL:https://southsoundymca.org/event-calendar/st-patricks-day/
LOCATION:Briggs YMCA & Plum Street YMCA
CATEGORIES:Member Appreciation Month
END:VEVENT
BEGIN:VEVENT
DTSTART;VALUE=DATE:20220316
DTEND;VALUE=DATE:20220317
DTSTAMP:20260425T072238
CREATED:20220301T023019Z
LAST-MODIFIED:20220301T025713Z
UID:5043-1647388800-1647475199@southsoundymca.org
SUMMARY:Kid’s Craft Day!
DESCRIPTION:Make some festive Shamrocks with us! Available during Kids Zone operating hours. \nKIDS ZONE HOURS
URL:https://southsoundymca.org/event-calendar/kids-craft-day/
LOCATION:Briggs YMCA & Plum Street YMCA
CATEGORIES:Member Appreciation Month
END:VEVENT
BEGIN:VEVENT
DTSTART;VALUE=DATE:20220315
DTEND;VALUE=DATE:20220316
DTSTAMP:20260425T072238
CREATED:20220301T023043Z
LAST-MODIFIED:20220301T023043Z
UID:5044-1647302400-1647388799@southsoundymca.org
SUMMARY:Snack Day!
DESCRIPTION:Have a (healthy) snack in the Welcome Center! \n 
URL:https://southsoundymca.org/event-calendar/snack-day-2/
LOCATION:Briggs YMCA & Plum Street YMCA
CATEGORIES:Member Appreciation Month
END:VEVENT
BEGIN:VEVENT
DTSTART;VALUE=DATE:20220314
DTEND;VALUE=DATE:20220315
DTSTAMP:20260425T072238
CREATED:20220301T022538Z
LAST-MODIFIED:20220301T022538Z
UID:5042-1647216000-1647302399@southsoundymca.org
SUMMARY:Family Coloring Day!
DESCRIPTION:Adult and Child coloring in the Welcome Center! \nColoring has the ability to relax the fear center of your brain\, the amygdala. It induces the same state as meditating by reducing the thoughts of a restless mind. This generates mindfulness and quietness\, which allows your mind to get some rest after a long day at work.
URL:https://southsoundymca.org/event-calendar/family-coloring-day/
LOCATION:Briggs YMCA & Plum Street YMCA
CATEGORIES:Member Appreciation Month
END:VEVENT
BEGIN:VEVENT
DTSTART;VALUE=DATE:20220313
DTEND;VALUE=DATE:20220314
DTSTAMP:20260425T072238
CREATED:20220301T022125Z
LAST-MODIFIED:20220301T022125Z
UID:5041-1647129600-1647215999@southsoundymca.org
SUMMARY:Daylight Savings Time Begins!
DESCRIPTION:It’s time to… SPRING forward! \nAdjust your clocks Saturday night! Daylight Saving Time begins on Sunday\, March 13\, 2022\, at 2:00 A.M. At this time\, we “spring forward” one hour!
URL:https://southsoundymca.org/event-calendar/daylight-savings-time-begins/
LOCATION:Briggs YMCA & Plum Street YMCA
CATEGORIES:Member Appreciation Month
END:VEVENT
BEGIN:VEVENT
DTSTART;VALUE=DATE:20220312
DTEND;VALUE=DATE:20220313
DTSTAMP:20260425T072238
CREATED:20220301T021859Z
LAST-MODIFIED:20220301T021859Z
UID:5040-1647043200-1647129599@southsoundymca.org
SUMMARY:YMCA Trivia Contest Begins!
DESCRIPTION:Test your YMCA knowledge!
URL:https://southsoundymca.org/event-calendar/ymca-trivia-contest-begins/
LOCATION:Briggs YMCA & Plum Street YMCA
CATEGORIES:Member Appreciation Month
END:VEVENT
BEGIN:VEVENT
DTSTART;TZID=America/Los_Angeles:20220311T120000
DTEND;TZID=America/Los_Angeles:20220311T170000
DTSTAMP:20260425T072238
CREATED:20220228T222356Z
LAST-MODIFIED:20220228T222430Z
UID:5013-1647000000-1647018000@southsoundymca.org
SUMMARY:Shelton YMCA community Food Pantry
DESCRIPTION:Shelton YMCA community Food Pantry \nThe Shelton Family YMCA\, CIELO and Coastal Harvest are partnering to distribute food boxes\, for free\, in Mason County. The pantry is open to anyone in the community in need of food. \nThe food panty is available every 2nd Friday of each month from 12PM-5PM at the Shelton Family YMCA. \nPlease pre-register to receive a food box.\n \nTo register call or email:\nP: 360-529-1181\nE: Esteban@cieloprograms.org\nW: www.cieloprograms.org
URL:https://southsoundymca.org/event-calendar/shelton-community-food-pantry/
LOCATION:Shelton Family YMCA\, 3101 N Shelton Springs Rd\, Shelton\, WA\, 98584\, United States
ORGANIZER;CN="Shelton Family YMCA":MAILTO:sheltonmembership@ssymca.net
END:VEVENT
BEGIN:VEVENT
DTSTART;VALUE=DATE:20220311
DTEND;VALUE=DATE:20220312
DTSTAMP:20260425T072238
CREATED:20220301T021803Z
LAST-MODIFIED:20220301T021803Z
UID:5039-1646956800-1647043199@southsoundymca.org
SUMMARY:Fruit Water Day!
DESCRIPTION:Have a glass of fruit water in the Welcome Center! \nStay cool and refreshed after your workout with a nice glass of refreshing fruit water.
URL:https://southsoundymca.org/event-calendar/fruit-water-day-2/
LOCATION:Briggs YMCA & Plum Street YMCA
CATEGORIES:Member Appreciation Month
END:VEVENT
BEGIN:VEVENT
DTSTART;VALUE=DATE:20220310
DTEND;VALUE=DATE:20220311
DTSTAMP:20260425T072238
CREATED:20220301T021727Z
LAST-MODIFIED:20220301T021727Z
UID:5038-1646870400-1646956799@southsoundymca.org
SUMMARY:Senior Funny Hat Day!
DESCRIPTION:Wear your funniest hat today!
URL:https://southsoundymca.org/event-calendar/senior-funny-hat-day/
LOCATION:Briggs YMCA & Plum Street YMCA
CATEGORIES:Member Appreciation Month
END:VEVENT
BEGIN:VEVENT
DTSTART;VALUE=DATE:20220309
DTEND;VALUE=DATE:20220310
DTSTAMP:20260425T072238
CREATED:20220301T021517Z
LAST-MODIFIED:20220301T021517Z
UID:5037-1646784000-1646870399@southsoundymca.org
SUMMARY:National Dietician-Nutritionist Day!
DESCRIPTION:Registered Dietitian Nutritionist Day\, celebrated on the second Wednesday in March\, increases awareness of RDNs as the indispensable providers of food and nutrition services and recognizes both RDNs and NDTRs for their commitment to helping people enjoy healthy lives. \nSchedule a Nutrition Consultation today! \nLEARN MORE
URL:https://southsoundymca.org/event-calendar/national-dietician-nutritionist-day/
LOCATION:Briggs YMCA & Plum Street YMCA
CATEGORIES:Member Appreciation Month
END:VEVENT
BEGIN:VEVENT
DTSTART;VALUE=DATE:20220308
DTEND;VALUE=DATE:20220309
DTSTAMP:20260425T072238
CREATED:20220301T021022Z
LAST-MODIFIED:20220301T021536Z
UID:5036-1646697600-1646783999@southsoundymca.org
SUMMARY:Snack Day!
DESCRIPTION:Have a (healthy) snack in the Welcome Center! \n 
URL:https://southsoundymca.org/event-calendar/snack-day/
LOCATION:Briggs YMCA & Plum Street YMCA
CATEGORIES:Member Appreciation Month
END:VEVENT
BEGIN:VEVENT
DTSTART;VALUE=DATE:20220307
DTEND;VALUE=DATE:20220308
DTSTAMP:20260425T072238
CREATED:20220301T020708Z
LAST-MODIFIED:20220301T020708Z
UID:5035-1646611200-1646697599@southsoundymca.org
SUMMARY:FLASH SALE! NO JOINING FEE!
DESCRIPTION:Join the Y for $0! \nNeed a workout motivation buddy? Today is the perfect day to encourage your friends to join the Y! Bring them in and we’ll waive the joining fee – so you and your buddy can start reaching your fitness goals\, together!
URL:https://southsoundymca.org/event-calendar/flash-sale-no-joining-fee/
LOCATION:Briggs YMCA & Plum Street YMCA
CATEGORIES:Member Appreciation Month
END:VEVENT
BEGIN:VEVENT
DTSTART;VALUE=DATE:20220306
DTEND;VALUE=DATE:20220307
DTSTAMP:20260425T072238
CREATED:20220301T020310Z
LAST-MODIFIED:20220301T020310Z
UID:5034-1646524800-1646611199@southsoundymca.org
SUMMARY:National Oreo Cookie Day!
DESCRIPTION:Who doesn’t love milk’s favorite cookie? \nMarch 6 is a special day for cookie lovers: It’s National Oreo Cookie Day. \nAccording to oreo.com\, the first Oreo cookie was made at Chelsea Market in 1912 and sold to a New Jersey grocer.
URL:https://southsoundymca.org/event-calendar/national-oreo-cookie-day/
LOCATION:Briggs YMCA & Plum Street YMCA
CATEGORIES:Member Appreciation Month
END:VEVENT
END:VCALENDAR